BEGIN:VCALENDAR
PRODID:-//eluceo/ical//2.0/EN
VERSION:2.0
CALSCALE:GREGORIAN
BEGIN:VEVENT
UID:c1051afd0b8a97edd936f4edb957e42f
DTSTAMP:20260422T203217Z
SUMMARY:18: Jólafundur
DESCRIPTION:
URL:https://keflavik.rotary1360.is/is/agenda/show/1558
DTSTART;TZID=Iceland:20191212T183000
DTEND;TZID=Iceland:20191212T200000
LOCATION:Safnaðarheimili Keflavíkurkirkju 
CATEGORIES:Rotary
END:VEVENT
BEGIN:VTIMEZONE
TZID:Iceland
BEGIN:STANDARD
DTSTART:20191212T183000
TZNAME:GMT
TZOFFSETTO:+0000
TZOFFSETFROM:+0000
END:STANDARD
END:VTIMEZONE
END:VCALENDAR
