BEGIN:VCALENDAR
PRODID:-//eluceo/ical//2.0/EN
VERSION:2.0
CALSCALE:GREGORIAN
BEGIN:VEVENT
UID:7112e04ccbd2dd4acf836906c7578292
DTSTAMP:20260422T131638Z
SUMMARY:Aldingarður æskunnar
DESCRIPTION:
URL:https://keflavik.rotary1360.is/is/agenda/show/1982
DTSTART;TZID=Iceland:20200430T170000
DTEND;TZID=Iceland:20200430T200000
LOCATION:Park Inn Hotel\nHafnargata 57\n230 Reykjanesbær\n
CATEGORIES:Rotary
END:VEVENT
BEGIN:VTIMEZONE
TZID:Iceland
BEGIN:STANDARD
DTSTART:20200430T170000
TZNAME:GMT
TZOFFSETTO:+0000
TZOFFSETFROM:+0000
END:STANDARD
END:VTIMEZONE
END:VCALENDAR
