BEGIN:VCALENDAR
PRODID:-//eluceo/ical//2.0/EN
VERSION:2.0
CALSCALE:GREGORIAN
BEGIN:VEVENT
UID:df5ac4b512bd16b03e2dc72bd49509cf
DTSTAMP:20260422T130225Z
SUMMARY:Rortary fundur
DESCRIPTION:
URL:https://keflavik.rotary1360.is/is/agenda/show/2154
DTSTART;TZID=Iceland:20200910T183000
DTEND;TZID=Iceland:20200910T200000
LOCATION:Park Inn Hotel\nHafnargata 57\n230 Reykjanesbær\n
CATEGORIES:Rotary
END:VEVENT
BEGIN:VTIMEZONE
TZID:Iceland
BEGIN:STANDARD
DTSTART:20200910T183000
TZNAME:GMT
TZOFFSETTO:+0000
TZOFFSETFROM:+0000
END:STANDARD
END:VTIMEZONE
END:VCALENDAR
