BEGIN:VCALENDAR
PRODID:-//eluceo/ical//2.0/EN
VERSION:2.0
CALSCALE:GREGORIAN
BEGIN:VEVENT
UID:189b0be46f079b32de6a7504bbbc543e
DTSTAMP:20260421T091829Z
SUMMARY:Rotaryfundur
DESCRIPTION:
URL:https://keflavik.rotary1360.is/is/agenda/show/3591
DTSTART;TZID=Iceland:20220331T183000
DTEND;TZID=Iceland:20220331T200000
LOCATION:Park Inn Hotel\nHafnargata 57\n230 Reykjanesbær\n
CATEGORIES:Rotary
END:VEVENT
BEGIN:VTIMEZONE
TZID:Iceland
BEGIN:STANDARD
DTSTART:20220331T183000
TZNAME:GMT
TZOFFSETTO:+0000
TZOFFSETFROM:+0000
END:STANDARD
END:VTIMEZONE
END:VCALENDAR
